BEGIN:VCALENDAR
VERSION:2.0
PRODID:-//https://calenda-formation.labocleo.org
X-WR-CALNAME:Calenda
X-WR-TIMEZONE:Europe/Paris
CALSCALE:GREGORIAN
X-WR-CALDESC:Le calendrier des lettres et sciences humaines et sociales
METHOD:PUBLISH
BEGIN:VEVENT
DTSTART;VALUE=DATE:20140421
DTEND;VALUE=DATE:20140422
UID:272175-20140421@calenda.revues.org
SUMMARY:Creating Characters\, Inventing Lives: The Art of the Self I
URL:https://calenda-formation.labocleo.org/272175
DESCRIPTION:International Network for Alternative Academia invites you to participate to the First International Symposium: Creating Characters\, Inventing Lives: The Art of the Self\, to be held on Tuesday 20th to Thursday 22nd of May\, 2014\, in Toronto\, Ontario\, … @plus_info https://calenda-formation.labocleo.org/272175
LOCATION:Toronto
END:VEVENT
END:VCALENDAR
