BEGIN:VCALENDAR
VERSION:2.0
PRODID:-//https://calenda-formation.labocleo.org
X-WR-CALNAME:Calenda
X-WR-TIMEZONE:Europe/Paris
CALSCALE:GREGORIAN
X-WR-CALDESC:Le calendrier des lettres et sciences humaines et sociales
METHOD:PUBLISH
BEGIN:VEVENT
DTSTART;VALUE=DATE:20140201
DTEND;VALUE=DATE:20140202
UID:272192-20140201@calenda.revues.org
SUMMARY:L’État dans tous ses états
URL:https://calenda-formation.labocleo.org/272192
DESCRIPTION:La septième édition des après-midi de recherche en science politique propose d’analyser le concept d’État selon trois axes : 1) La mise en question de l’État au XXIème siècle ; 2) L’étude des dynamiques étatiques ; 3) Les formes de gouvernement au-de… @plus_info https://calenda-formation.labocleo.org/272192
LOCATION:Liège
END:VEVENT
END:VCALENDAR
