BEGIN:VCALENDAR
VERSION:2.0
PRODID:-//https://calenda-formation.labocleo.org
X-WR-CALNAME:Calenda
X-WR-TIMEZONE:Europe/Paris
CALSCALE:GREGORIAN
X-WR-CALDESC:Le calendrier des lettres et sciences humaines et sociales
METHOD:PUBLISH
BEGIN:VEVENT
DTSTART;VALUE=DATE:20140110
DTEND;VALUE=DATE:20140111
UID:272392-20140110@calenda.revues.org
SUMMARY:Lignes de front : les visages de la Grande Guerre
URL:https://calenda-formation.labocleo.org/272392
DESCRIPTION:Un siècle après que les obus aient labouré cette terre\, que savons-nous ? Quel sens donner aux traces d’un paysage meurtri\, broyé sous la puissance de feu des obus ? Que savons-nous de ces corps meurtris pétris dans la boue des tranchées de Meuse ? Q… Weitere Informationen https://calenda-formation.labocleo.org/272392
LOCATION:Saint-Remy-la-Calonne
END:VEVENT
END:VCALENDAR
