BEGIN:VCALENDAR
VERSION:2.0
PRODID:-//https://calenda-formation.labocleo.org
X-WR-CALNAME:Calenda
X-WR-TIMEZONE:Europe/Paris
CALSCALE:GREGORIAN
X-WR-CALDESC:Le calendrier des lettres et sciences humaines et sociales
METHOD:PUBLISH
BEGIN:VEVENT
DTSTART;VALUE=DATE:20140124
DTEND;VALUE=DATE:20140125
UID:272512-20140124@calenda.revues.org
SUMMARY:Journée d’hommage à Jean Marcadé
URL:https://calenda-formation.labocleo.org/272512
DESCRIPTION:Trois anciens disciples de Jean Marcadé (1920-2012)\, grand spécialiste de la sculpture grecque\, sont à l’origine de cette journée d’hommage qu’ils ont souhaité dédier à la mémoire de leur maître. Le patronage de quatre institutions prestigieuses témo… @plus_info https://calenda-formation.labocleo.org/272512
LOCATION:Paris
END:VEVENT
END:VCALENDAR
