BEGIN:VCALENDAR
VERSION:2.0
PRODID:-//https://calenda-formation.labocleo.org
X-WR-CALNAME:Calenda
X-WR-TIMEZONE:Europe/Paris
CALSCALE:GREGORIAN
X-WR-CALDESC:The calendar for arts, humanities and social sciences
METHOD:PUBLISH
BEGIN:VEVENT
DTSTART;VALUE=DATE:20140123
DTEND;VALUE=DATE:20140124
UID:272966-20140123@calenda.revues.org
SUMMARY:The frontiers between research and care: diagnosis and legal prognostics
URL:https://calenda-formation.labocleo.org/272966
DESCRIPTION:L’association des jeunes chercheurs du réseau Droit\, sciences et techniques organise sa 4ème journée d’étude\, le 23 janvier 2014\, à l’université Paris Ouest Nanterre La Défense. Cette manifestation\, intitulée « Les frontières entre recherche et soin … @plus_info https://calenda-formation.labocleo.org/272966
LOCATION:Nanterre
END:VEVENT
END:VCALENDAR
