BEGIN:VCALENDAR
VERSION:2.0
PRODID:-//https://calenda-formation.labocleo.org
X-WR-CALNAME:Calenda
X-WR-TIMEZONE:Europe/Paris
CALSCALE:GREGORIAN
X-WR-CALDESC:The calendar for arts, humanities and social sciences
METHOD:PUBLISH
BEGIN:VEVENT
DTSTART;VALUE=DATE:20140131
DTEND;VALUE=DATE:20140201
UID:273354-20140131@calenda.revues.org
SUMMARY:Theater\, Performance\, Philosophy
URL:https://calenda-formation.labocleo.org/273354
DESCRIPTION:En présence de Judith Butler\, Avital Ronell\, Catherine Malabou\, Martin Puchner\, ce prochain colloque questionnera le lien problématique entre théâtre et philosophie\, à l’aune des pensées anglo-américaines. De nouveaux croisements\, de nouveaux transfe… @plus_info https://calenda-formation.labocleo.org/273354
LOCATION:Paris
END:VEVENT
END:VCALENDAR
