BEGIN:VCALENDAR
VERSION:2.0
PRODID:-//https://calenda-formation.labocleo.org
X-WR-CALNAME:Calenda
X-WR-TIMEZONE:Europe/Paris
CALSCALE:GREGORIAN
X-WR-CALDESC:Le calendrier des lettres et sciences humaines et sociales
METHOD:PUBLISH
BEGIN:VEVENT
DTSTART;VALUE=DATE:20140228
DTEND;VALUE=DATE:20140301
UID:273874-20140228@calenda.revues.org
SUMMARY:Esclavage en Afrique : histoire\, héritages et actualité
URL:https://calenda-formation.labocleo.org/273874
DESCRIPTION:En Afrique\, les séquelles de la traite et de l'esclavage sont encore vivaces et on ne peut douter de leur poids dans les relations entretenues par les différentes composantes de la société et de la construction des États-nations contemporains. Les hé… Más informaciones https://calenda-formation.labocleo.org/273874
LOCATION:Nairobi
END:VEVENT
END:VCALENDAR
