BEGIN:VCALENDAR
VERSION:2.0
PRODID:-//https://calenda-formation.labocleo.org
X-WR-CALNAME:Calenda
X-WR-TIMEZONE:Europe/Paris
CALSCALE:GREGORIAN
X-WR-CALDESC:Le calendrier des lettres et sciences humaines et sociales
METHOD:PUBLISH
BEGIN:VEVENT
DTSTART;VALUE=DATE:20140206
DTEND;VALUE=DATE:20140207
UID:274140-20140206@calenda.revues.org
SUMMARY:Gouverner les pauvres en Amérique latine : gérer les femmes par l’assistance
URL:https://calenda-formation.labocleo.org/274140
DESCRIPTION:Visant à analyser l’offre institutionnelle et les logiques d’acteurs au travers des nouvelles politiques d’assistance dans six métropoles – Bogota\, Buenos Aires\, Sao Paulo\, Santiago de Chili\, Guadalajara et la Havane – le travail de recherche collect… Weitere Informationen https://calenda-formation.labocleo.org/274140
LOCATION:Nogent-sur-Marne
END:VEVENT
END:VCALENDAR
