BEGIN:VCALENDAR
VERSION:2.0
PRODID:-//https://calenda-formation.labocleo.org
X-WR-CALNAME:Calenda
X-WR-TIMEZONE:Europe/Paris
CALSCALE:GREGORIAN
X-WR-CALDESC:Le calendrier des lettres et sciences humaines et sociales
METHOD:PUBLISH
BEGIN:VEVENT
DTSTART;VALUE=DATE:20140210
DTEND;VALUE=DATE:20140211
UID:274218-20140210@calenda.revues.org
SUMMARY:Magno e Latio Totaque Ausonia
URL:https://calenda-formation.labocleo.org/274218
DESCRIPTION:Ausonia\, in senso aggettivale originario\, è prima di tutto la meta del viaggio di Enea: in accezione minima\, quindi\, il Lazio; ma nella prospettiva virgiliana orientata su Roma\, Ausonia è nell’Eneide sinonimo di Italia nella sua valenza massima\, este… @plus_info https://calenda-formation.labocleo.org/274218
LOCATION:Rome
END:VEVENT
BEGIN:VEVENT
DTSTART;VALUE=DATE:20140211
DTEND;VALUE=DATE:20140212
UID:274218-20140211@calenda.revues.org
SUMMARY:Magno e Latio Totaque Ausonia
URL:https://calenda-formation.labocleo.org/274218
DESCRIPTION:Ausonia\, in senso aggettivale originario\, è prima di tutto la meta del viaggio di Enea: in accezione minima\, quindi\, il Lazio; ma nella prospettiva virgiliana orientata su Roma\, Ausonia è nell’Eneide sinonimo di Italia nella sua valenza massima\, este… @plus_info https://calenda-formation.labocleo.org/274218
LOCATION:Rome
END:VEVENT
END:VCALENDAR
