BEGIN:VCALENDAR
VERSION:2.0
PRODID:-//https://calenda-formation.labocleo.org
X-WR-CALNAME:Calenda
X-WR-TIMEZONE:Europe/Paris
CALSCALE:GREGORIAN
X-WR-CALDESC:Le calendrier des lettres et sciences humaines et sociales
METHOD:PUBLISH
BEGIN:VEVENT
DTSTART;VALUE=DATE:20140315
DTEND;VALUE=DATE:20140316
UID:274272-20140315@calenda.revues.org
SUMMARY:Coordination d'un numéro thématique de « Émulations. Revue des jeunes chercheurs en sciences sociales »
URL:https://calenda-formation.labocleo.org/274272
DESCRIPTION:Émulations – Revue des jeunes chercheurs en sciences sociales lance un appel à coordination pour son numéro thématique printemps 2015. Les numéros thématiques sont coordonnés par deux ou trois jeunes chercheurs (doctorants en fin de thèse et post-doc… @plus_info https://calenda-formation.labocleo.org/274272
LOCATION:
END:VEVENT
END:VCALENDAR
