BEGIN:VCALENDAR
VERSION:2.0
PRODID:-//https://calenda-formation.labocleo.org
X-WR-CALNAME:Calenda
X-WR-TIMEZONE:Europe/Paris
CALSCALE:GREGORIAN
X-WR-CALDESC:Le calendrier des lettres et sciences humaines et sociales
METHOD:PUBLISH
BEGIN:VEVENT
DTSTART;VALUE=DATE:20140331
DTEND;VALUE=DATE:20140401
UID:274482-20140331@calenda.revues.org
SUMMARY:Prix du Comité d'histoire de la sécurité sociale (2014)
URL:https://calenda-formation.labocleo.org/274482
DESCRIPTION:Créé en 1973 au sein du ministère des Affaires sociales\, le Comité d'histoire de la sécurité sociale a pour mission de contribuer à une meilleure connaissance de l'histoire de la sécurité sociale et plus largement de la Protection sociale de l'Ancien… Más informaciones https://calenda-formation.labocleo.org/274482
LOCATION:París
END:VEVENT
END:VCALENDAR
