BEGIN:VCALENDAR
VERSION:2.0
PRODID:-//https://calenda-formation.labocleo.org
X-WR-CALNAME:Calenda
X-WR-TIMEZONE:Europe/Paris
CALSCALE:GREGORIAN
X-WR-CALDESC:The calendar for arts, humanities and social sciences
METHOD:PUBLISH
BEGIN:VEVENT
DTSTART;VALUE=DATE:20140120
DTEND;VALUE=DATE:20140121
UID:274538-20140120@calenda.revues.org
SUMMARY:Egypt three years on\, after the 25 January revolution
URL:https://calenda-formation.labocleo.org/274538
DESCRIPTION:Que reste-t-il des idéaux de la Révolution de 2011 ? Quels changements la nouvelle constitution apporte-t-elle ? Comment le parti al-Nour s’est-il retrouvé à soutenir la destitution de Morsi et l’éventuelle candidature du général Sissi aux élections … @plus_info https://calenda-formation.labocleo.org/274538
LOCATION:Paris
END:VEVENT
END:VCALENDAR
