BEGIN:VCALENDAR
VERSION:2.0
PRODID:-//https://calenda-formation.labocleo.org
X-WR-CALNAME:Calenda
X-WR-TIMEZONE:Europe/Paris
CALSCALE:GREGORIAN
X-WR-CALDESC:Le calendrier des lettres et sciences humaines et sociales
METHOD:PUBLISH
BEGIN:VEVENT
DTSTART;VALUE=DATE:20140310
DTEND;VALUE=DATE:20140311
UID:274679-20140310@calenda.revues.org
SUMMARY:Citoyenneté et intégration européennes sept et dix ans après
URL:https://calenda-formation.labocleo.org/274679
DESCRIPTION:Pour les pays des dernières vagues d’intégrations\, 7 et 10 ans après\, les situations restent bien différentes. Les attentes des Européens étaient grandes et des désenchantements aujourd’hui s’expriment. Une crise idéologique profonde semble secouer c… Más informaciones https://calenda-formation.labocleo.org/274679
LOCATION:Sofía\, Banská Bystrica\, Cluj
END:VEVENT
END:VCALENDAR
