BEGIN:VCALENDAR
VERSION:2.0
PRODID:-//https://calenda-formation.labocleo.org
X-WR-CALNAME:Calenda
X-WR-TIMEZONE:Europe/Paris
CALSCALE:GREGORIAN
X-WR-CALDESC:Le calendrier des lettres et sciences humaines et sociales
METHOD:PUBLISH
BEGIN:VEVENT
DTSTART;VALUE=DATE:20140214
DTEND;VALUE=DATE:20140215
UID:275159-20140214@calenda.revues.org
SUMMARY:Les portails documentaires\, un atout pour les archives ?
URL:https://calenda-formation.labocleo.org/275159
DESCRIPTION:Chaque année\, une journée d'étude sur une question professionnelle d'actualité est organisée par les étudiants du Master 2 Histoire et document\, Métiers des archives et des bibliothèques de l'université d'Angers et par l'Association des étudiants et … Weitere Informationen https://calenda-formation.labocleo.org/275159
LOCATION:Angers
END:VEVENT
END:VCALENDAR
