BEGIN:VCALENDAR
VERSION:2.0
PRODID:-//https://calenda-formation.labocleo.org
X-WR-CALNAME:Calenda
X-WR-TIMEZONE:Europe/Paris
CALSCALE:GREGORIAN
X-WR-CALDESC:The calendar for arts, humanities and social sciences
METHOD:PUBLISH
BEGIN:VEVENT
DTSTART;VALUE=DATE:20140404
DTEND;VALUE=DATE:20140405
UID:275166-20140404@calenda.revues.org
SUMMARY:Holy War and military orders
URL:https://calenda-formation.labocleo.org/275166
DESCRIPTION:La Vierge\, Jean Baptiste\, Georges\, Maurice\, Jacques ou encore Michel occupent une place de premier ordre dans la dévotion des ordres militaires\, que ceux-ci soient templiers\, hospitaliers\, santiaguistes ou teutoniques. Plus que l’identité des saints … @plus_info https://calenda-formation.labocleo.org/275166
LOCATION:Nanterre
END:VEVENT
END:VCALENDAR
