BEGIN:VCALENDAR
VERSION:2.0
PRODID:-//https://calenda-formation.labocleo.org
X-WR-CALNAME:Calenda
X-WR-TIMEZONE:Europe/Paris
CALSCALE:GREGORIAN
X-WR-CALDESC:The calendar for arts, humanities and social sciences
METHOD:PUBLISH
BEGIN:VEVENT
DTSTART;VALUE=DATE:20140125
DTEND;VALUE=DATE:20140126
UID:275199-20140125@calenda.revues.org
SUMMARY:The Geopolitics of Film and Entertainment Industries Across the Taiwan Strait
URL:https://calenda-formation.labocleo.org/275199
DESCRIPTION:The Taipei office of the HK-based French Center for the Study of Contemporary China (CEFC\, http://www.cefc.com.hk/rubrique.php?id=73) is inviting you to join a limited number of researchers in freely exchanging ideas about Cross-Taiwan Strait cinema … @plus_info https://calenda-formation.labocleo.org/275199
LOCATION:Taipei
END:VEVENT
END:VCALENDAR
