BEGIN:VCALENDAR
VERSION:2.0
PRODID:-//https://calenda-formation.labocleo.org
X-WR-CALNAME:Calenda
X-WR-TIMEZONE:Europe/Paris
CALSCALE:GREGORIAN
X-WR-CALDESC:The calendar for arts, humanities and social sciences
METHOD:PUBLISH
BEGIN:VEVENT
DTSTART;VALUE=DATE:20140205
DTEND;VALUE=DATE:20140206
UID:275545-20140205@calenda.revues.org
SUMMARY:CERSA lecture seminar
URL:https://calenda-formation.labocleo.org/275545
DESCRIPTION:Ce séminaire multidisciplinaire organisé par des membres du CERSA a pour objectif la discussion autour d'ouvrages récents ou classiques. Le prochain sera animé par Morgane Le Jan\, doctorante en droit public en troisième année\, qui présentera le 5 fév… @plus_info https://calenda-formation.labocleo.org/275545
LOCATION:Paris
END:VEVENT
BEGIN:VEVENT
DTSTART;VALUE=DATE:20140402
DTEND;VALUE=DATE:20140403
UID:275545-20140402@calenda.revues.org
SUMMARY:CERSA lecture seminar
URL:https://calenda-formation.labocleo.org/275545
DESCRIPTION:Ce séminaire multidisciplinaire organisé par des membres du CERSA a pour objectif la discussion autour d'ouvrages récents ou classiques. Le prochain sera animé par Morgane Le Jan\, doctorante en droit public en troisième année\, qui présentera le 5 fév… @plus_info https://calenda-formation.labocleo.org/275545
LOCATION:Paris
END:VEVENT
BEGIN:VEVENT
DTSTART;VALUE=DATE:20140507
DTEND;VALUE=DATE:20140508
UID:275545-20140507@calenda.revues.org
SUMMARY:CERSA lecture seminar
URL:https://calenda-formation.labocleo.org/275545
DESCRIPTION:Ce séminaire multidisciplinaire organisé par des membres du CERSA a pour objectif la discussion autour d'ouvrages récents ou classiques. Le prochain sera animé par Morgane Le Jan\, doctorante en droit public en troisième année\, qui présentera le 5 fév… @plus_info https://calenda-formation.labocleo.org/275545
LOCATION:Paris
END:VEVENT
BEGIN:VEVENT
DTSTART;VALUE=DATE:20140604
DTEND;VALUE=DATE:20140605
UID:275545-20140604@calenda.revues.org
SUMMARY:CERSA lecture seminar
URL:https://calenda-formation.labocleo.org/275545
DESCRIPTION:Ce séminaire multidisciplinaire organisé par des membres du CERSA a pour objectif la discussion autour d'ouvrages récents ou classiques. Le prochain sera animé par Morgane Le Jan\, doctorante en droit public en troisième année\, qui présentera le 5 fév… @plus_info https://calenda-formation.labocleo.org/275545
LOCATION:Paris
END:VEVENT
END:VCALENDAR
