BEGIN:VCALENDAR
VERSION:2.0
PRODID:-//https://calenda-formation.labocleo.org
X-WR-CALNAME:Calenda
X-WR-TIMEZONE:Europe/Paris
CALSCALE:GREGORIAN
X-WR-CALDESC:Le calendrier des lettres et sciences humaines et sociales
METHOD:PUBLISH
BEGIN:VEVENT
DTSTART;VALUE=DATE:20140501
DTEND;VALUE=DATE:20140502
UID:275789-20140501@calenda.revues.org
SUMMARY:Le luxe dans tous ses états : fondements\, dynamiques et pluralité
URL:https://calenda-formation.labocleo.org/275789
DESCRIPTION:L’objectif de ce numéro de la revue « Études caribéennes » est d’ouvrir une réflexion sur le concept de luxe\, d’investir le luxe dans tous ses états. Il s’agit d’interroger les fondements du luxe\, de la théorie à la matérialité\, de la fabrication à l… @plus_info https://calenda-formation.labocleo.org/275789
LOCATION:
END:VEVENT
END:VCALENDAR
