BEGIN:VCALENDAR
VERSION:2.0
PRODID:-//https://calenda-formation.labocleo.org
X-WR-CALNAME:Calenda
X-WR-TIMEZONE:Europe/Paris
CALSCALE:GREGORIAN
X-WR-CALDESC:Le calendrier des lettres et sciences humaines et sociales
METHOD:PUBLISH
BEGIN:VEVENT
DTSTART;VALUE=DATE:20140207
DTEND;VALUE=DATE:20140208
UID:275929-20140207@calenda.revues.org
SUMMARY:Regards croisés par delà les frontières : échanges\, migrations et perceptions identitaires 
URL:https://calenda-formation.labocleo.org/275929
DESCRIPTION:Traverser la ou les frontière(s)\, explorer\, voyager\, (é)migrer\, partir à la recherche de territoires inconnus\, qu'ils soient réels ou fictifs\, proches ou lointains\, aussi bien dans l'espace que dans le temps\,  afin de découvrir ou de parfaire sa conn… @plus_info https://calenda-formation.labocleo.org/275929
LOCATION:Le Mirail
END:VEVENT
END:VCALENDAR
