BEGIN:VCALENDAR
VERSION:2.0
PRODID:-//https://calenda-formation.labocleo.org
X-WR-CALNAME:Calenda
X-WR-TIMEZONE:Europe/Paris
CALSCALE:GREGORIAN
X-WR-CALDESC:Le calendrier des lettres et sciences humaines et sociales
METHOD:PUBLISH
BEGIN:VEVENT
DTSTART;VALUE=DATE:20140204
DTEND;VALUE=DATE:20140205
UID:275995-20140204@calenda.revues.org
SUMMARY:Histoire des sciences\, histoire de l’innovation 
URL:https://calenda-formation.labocleo.org/275995
DESCRIPTION:Le but du séminaire est de proposer une réflexion approfondie sur l’histoire de la circulation des sciences et des innovations en Europe\, ainsi que sur l’histoire des civilisations matérielles que cette circulation transforme. L’histoire des sciences… @plus_info https://calenda-formation.labocleo.org/275995
LOCATION:Paris
END:VEVENT
BEGIN:VEVENT
DTSTART;VALUE=DATE:20140211
DTEND;VALUE=DATE:20140212
UID:275995-20140211@calenda.revues.org
SUMMARY:Histoire des sciences\, histoire de l’innovation 
URL:https://calenda-formation.labocleo.org/275995
DESCRIPTION:Le but du séminaire est de proposer une réflexion approfondie sur l’histoire de la circulation des sciences et des innovations en Europe\, ainsi que sur l’histoire des civilisations matérielles que cette circulation transforme. L’histoire des sciences… @plus_info https://calenda-formation.labocleo.org/275995
LOCATION:Paris
END:VEVENT
BEGIN:VEVENT
DTSTART;VALUE=DATE:20140304
DTEND;VALUE=DATE:20140305
UID:275995-20140304@calenda.revues.org
SUMMARY:Histoire des sciences\, histoire de l’innovation 
URL:https://calenda-formation.labocleo.org/275995
DESCRIPTION:Le but du séminaire est de proposer une réflexion approfondie sur l’histoire de la circulation des sciences et des innovations en Europe\, ainsi que sur l’histoire des civilisations matérielles que cette circulation transforme. L’histoire des sciences… @plus_info https://calenda-formation.labocleo.org/275995
LOCATION:Paris
END:VEVENT
BEGIN:VEVENT
DTSTART;VALUE=DATE:20140311
DTEND;VALUE=DATE:20140312
UID:275995-20140311@calenda.revues.org
SUMMARY:Histoire des sciences\, histoire de l’innovation 
URL:https://calenda-formation.labocleo.org/275995
DESCRIPTION:Le but du séminaire est de proposer une réflexion approfondie sur l’histoire de la circulation des sciences et des innovations en Europe\, ainsi que sur l’histoire des civilisations matérielles que cette circulation transforme. L’histoire des sciences… @plus_info https://calenda-formation.labocleo.org/275995
LOCATION:Paris
END:VEVENT
BEGIN:VEVENT
DTSTART;VALUE=DATE:20140318
DTEND;VALUE=DATE:20140319
UID:275995-20140318@calenda.revues.org
SUMMARY:Histoire des sciences\, histoire de l’innovation 
URL:https://calenda-formation.labocleo.org/275995
DESCRIPTION:Le but du séminaire est de proposer une réflexion approfondie sur l’histoire de la circulation des sciences et des innovations en Europe\, ainsi que sur l’histoire des civilisations matérielles que cette circulation transforme. L’histoire des sciences… @plus_info https://calenda-formation.labocleo.org/275995
LOCATION:Paris
END:VEVENT
BEGIN:VEVENT
DTSTART;VALUE=DATE:20140325
DTEND;VALUE=DATE:20140326
UID:275995-20140325@calenda.revues.org
SUMMARY:Histoire des sciences\, histoire de l’innovation 
URL:https://calenda-formation.labocleo.org/275995
DESCRIPTION:Le but du séminaire est de proposer une réflexion approfondie sur l’histoire de la circulation des sciences et des innovations en Europe\, ainsi que sur l’histoire des civilisations matérielles que cette circulation transforme. L’histoire des sciences… @plus_info https://calenda-formation.labocleo.org/275995
LOCATION:Paris
END:VEVENT
BEGIN:VEVENT
DTSTART;VALUE=DATE:20140401
DTEND;VALUE=DATE:20140402
UID:275995-20140401@calenda.revues.org
SUMMARY:Histoire des sciences\, histoire de l’innovation 
URL:https://calenda-formation.labocleo.org/275995
DESCRIPTION:Le but du séminaire est de proposer une réflexion approfondie sur l’histoire de la circulation des sciences et des innovations en Europe\, ainsi que sur l’histoire des civilisations matérielles que cette circulation transforme. L’histoire des sciences… @plus_info https://calenda-formation.labocleo.org/275995
LOCATION:Paris
END:VEVENT
BEGIN:VEVENT
DTSTART;VALUE=DATE:20140408
DTEND;VALUE=DATE:20140409
UID:275995-20140408@calenda.revues.org
SUMMARY:Histoire des sciences\, histoire de l’innovation 
URL:https://calenda-formation.labocleo.org/275995
DESCRIPTION:Le but du séminaire est de proposer une réflexion approfondie sur l’histoire de la circulation des sciences et des innovations en Europe\, ainsi que sur l’histoire des civilisations matérielles que cette circulation transforme. L’histoire des sciences… @plus_info https://calenda-formation.labocleo.org/275995
LOCATION:Paris
END:VEVENT
BEGIN:VEVENT
DTSTART;VALUE=DATE:20140506
DTEND;VALUE=DATE:20140507
UID:275995-20140506@calenda.revues.org
SUMMARY:Histoire des sciences\, histoire de l’innovation 
URL:https://calenda-formation.labocleo.org/275995
DESCRIPTION:Le but du séminaire est de proposer une réflexion approfondie sur l’histoire de la circulation des sciences et des innovations en Europe\, ainsi que sur l’histoire des civilisations matérielles que cette circulation transforme. L’histoire des sciences… @plus_info https://calenda-formation.labocleo.org/275995
LOCATION:Paris
END:VEVENT
BEGIN:VEVENT
DTSTART;VALUE=DATE:20140513
DTEND;VALUE=DATE:20140514
UID:275995-20140513@calenda.revues.org
SUMMARY:Histoire des sciences\, histoire de l’innovation 
URL:https://calenda-formation.labocleo.org/275995
DESCRIPTION:Le but du séminaire est de proposer une réflexion approfondie sur l’histoire de la circulation des sciences et des innovations en Europe\, ainsi que sur l’histoire des civilisations matérielles que cette circulation transforme. L’histoire des sciences… @plus_info https://calenda-formation.labocleo.org/275995
LOCATION:Paris
END:VEVENT
END:VCALENDAR
