BEGIN:VCALENDAR
VERSION:2.0
PRODID:-//https://calenda-formation.labocleo.org
X-WR-CALNAME:Calenda
X-WR-TIMEZONE:Europe/Paris
CALSCALE:GREGORIAN
X-WR-CALDESC:Le calendrier des lettres et sciences humaines et sociales
METHOD:PUBLISH
BEGIN:VEVENT
DTSTART;VALUE=DATE:20140205
DTEND;VALUE=DATE:20140206
UID:275999-20140205@calenda.revues.org
SUMMARY:Atelier pluridisciplinaire de recherche sur la guerre et la paix 
URL:https://calenda-formation.labocleo.org/275999
DESCRIPTION:Après avoir traité de la figure du combattant\, l’atelier pluridisciplinaire de recherche sur la guerre et la paix aborde la question des discours relatifs à la guerre. Il s’agira tout d’abord de comprendre comment et pourquoi les « discours de guerre… Weitere Informationen https://calenda-formation.labocleo.org/275999
LOCATION:Paris
END:VEVENT
BEGIN:VEVENT
DTSTART;VALUE=DATE:20140305
DTEND;VALUE=DATE:20140306
UID:275999-20140305@calenda.revues.org
SUMMARY:Atelier pluridisciplinaire de recherche sur la guerre et la paix 
URL:https://calenda-formation.labocleo.org/275999
DESCRIPTION:Après avoir traité de la figure du combattant\, l’atelier pluridisciplinaire de recherche sur la guerre et la paix aborde la question des discours relatifs à la guerre. Il s’agira tout d’abord de comprendre comment et pourquoi les « discours de guerre… Weitere Informationen https://calenda-formation.labocleo.org/275999
LOCATION:Paris
END:VEVENT
BEGIN:VEVENT
DTSTART;VALUE=DATE:20140402
DTEND;VALUE=DATE:20140403
UID:275999-20140402@calenda.revues.org
SUMMARY:Atelier pluridisciplinaire de recherche sur la guerre et la paix 
URL:https://calenda-formation.labocleo.org/275999
DESCRIPTION:Après avoir traité de la figure du combattant\, l’atelier pluridisciplinaire de recherche sur la guerre et la paix aborde la question des discours relatifs à la guerre. Il s’agira tout d’abord de comprendre comment et pourquoi les « discours de guerre… Weitere Informationen https://calenda-formation.labocleo.org/275999
LOCATION:Paris
END:VEVENT
BEGIN:VEVENT
DTSTART;VALUE=DATE:20140507
DTEND;VALUE=DATE:20140508
UID:275999-20140507@calenda.revues.org
SUMMARY:Atelier pluridisciplinaire de recherche sur la guerre et la paix 
URL:https://calenda-formation.labocleo.org/275999
DESCRIPTION:Après avoir traité de la figure du combattant\, l’atelier pluridisciplinaire de recherche sur la guerre et la paix aborde la question des discours relatifs à la guerre. Il s’agira tout d’abord de comprendre comment et pourquoi les « discours de guerre… Weitere Informationen https://calenda-formation.labocleo.org/275999
LOCATION:Paris
END:VEVENT
BEGIN:VEVENT
DTSTART;VALUE=DATE:20140604
DTEND;VALUE=DATE:20140605
UID:275999-20140604@calenda.revues.org
SUMMARY:Atelier pluridisciplinaire de recherche sur la guerre et la paix 
URL:https://calenda-formation.labocleo.org/275999
DESCRIPTION:Après avoir traité de la figure du combattant\, l’atelier pluridisciplinaire de recherche sur la guerre et la paix aborde la question des discours relatifs à la guerre. Il s’agira tout d’abord de comprendre comment et pourquoi les « discours de guerre… Weitere Informationen https://calenda-formation.labocleo.org/275999
LOCATION:Paris
END:VEVENT
END:VCALENDAR
