BEGIN:VCALENDAR
VERSION:2.0
PRODID:-//https://calenda-formation.labocleo.org
X-WR-CALNAME:Calenda
X-WR-TIMEZONE:Europe/Paris
CALSCALE:GREGORIAN
X-WR-CALDESC:Le calendrier des lettres et sciences humaines et sociales
METHOD:PUBLISH
BEGIN:VEVENT
DTSTART;VALUE=DATE:20140320
DTEND;VALUE=DATE:20140321
UID:276310-20140320@calenda.revues.org
SUMMARY:Les proéminences à l'oral
URL:https://calenda-formation.labocleo.org/276310
DESCRIPTION:Le 30ème numéro de la revue TIPA sera consacré au thème « Les proéminences à l'oral ». La parution de ce numéro est prévue pour décembre 2014\, sous la direction de l'éditrice invitée\, Sophie Herment (Laboratoire Parole et Langage\, Aix-Marseille Unive… Más informaciones https://calenda-formation.labocleo.org/276310
LOCATION:Aix-en-Provence
END:VEVENT
END:VCALENDAR
