BEGIN:VCALENDAR
VERSION:2.0
PRODID:-//https://calenda-formation.labocleo.org
X-WR-CALNAME:Calenda
X-WR-TIMEZONE:Europe/Paris
CALSCALE:GREGORIAN
X-WR-CALDESC:Le calendrier des lettres et sciences humaines et sociales
METHOD:PUBLISH
BEGIN:VEVENT
DTSTART;VALUE=DATE:20140415
DTEND;VALUE=DATE:20140416
UID:276623-20140415@calenda.revues.org
SUMMARY:Assistante diplômée ou assistant diplômé en « Histoire et philosophie des imaginaires religieux »
URL:https://calenda-formation.labocleo.org/276623
DESCRIPTION:Le/la candidat-e doit avoir un intérêt profond et de bonnes connaissances sur la question des rapports entre science et religion (connaissance historique et/ou épistémologique). … Más informaciones https://calenda-formation.labocleo.org/276623
LOCATION:Lausana
END:VEVENT
END:VCALENDAR
