BEGIN:VCALENDAR
VERSION:2.0
PRODID:-//https://calenda-formation.labocleo.org
X-WR-CALNAME:Calenda
X-WR-TIMEZONE:Europe/Paris
CALSCALE:GREGORIAN
X-WR-CALDESC:The calendar for arts, humanities and social sciences
METHOD:PUBLISH
BEGIN:VEVENT
DTSTART;VALUE=DATE:20140415
DTEND;VALUE=DATE:20140416
UID:276697-20140415@calenda.revues.org
SUMMARY:Cities and urban-ness in the Maghreb
URL:https://calenda-formation.labocleo.org/276697
DESCRIPTION:Ce dossier a pour ambition de faire le point sur les savoirs nouveaux apportés par la recherche et d’explorer différents champs et approches liées à la question urbaine dans les sociétés maghrébines. Cela passe par certains déplacements de l’analyse.… @plus_info https://calenda-formation.labocleo.org/276697
LOCATION:Aix-en-Provence
END:VEVENT
END:VCALENDAR
