BEGIN:VCALENDAR
VERSION:2.0
PRODID:-//https://calenda-formation.labocleo.org
X-WR-CALNAME:Calenda
X-WR-TIMEZONE:Europe/Paris
CALSCALE:GREGORIAN
X-WR-CALDESC:O calendário de letras e de ciências sociais e humanas
METHOD:PUBLISH
BEGIN:VEVENT
DTSTART;VALUE=DATE:20140320
DTEND;VALUE=DATE:20140321
UID:277253-20140320@calenda.revues.org
SUMMARY:Diagnostic de(s) crise(s) à Madagascar
URL:https://calenda-formation.labocleo.org/277253
DESCRIPTION:L’objectif de ce numéro est d'apporter un éclairage sur la nature et l'origine des crises récurrentes à Madagascar. Invariablement\, pour chaque crise\, les événements qui conduisirent à la chute des régimes en place apparaissent à la fois comme le rés… @plus_info https://calenda-formation.labocleo.org/277253
LOCATION:
END:VEVENT
END:VCALENDAR
