BEGIN:VCALENDAR
VERSION:2.0
PRODID:-//https://calenda-formation.labocleo.org
X-WR-CALNAME:Calenda
X-WR-TIMEZONE:Europe/Paris
CALSCALE:GREGORIAN
X-WR-CALDESC:The calendar for arts, humanities and social sciences
METHOD:PUBLISH
BEGIN:VEVENT
DTSTART;VALUE=DATE:20140306
DTEND;VALUE=DATE:20140307
UID:277282-20140306@calenda.revues.org
SUMMARY:Actors and objects of the religious heritage in Mediterranean
URL:https://calenda-formation.labocleo.org/277282
DESCRIPTION:Le projet MERAP-Med\, regroupant anthropologues\, historiens\, géographes et historiens de l’art\, est né de la volonté de proposer une réflexion comparative sur les manières de construire et représenter les identités religieuses dans le contexte multico… @plus_info https://calenda-formation.labocleo.org/277282
LOCATION:Madrid
END:VEVENT
BEGIN:VEVENT
DTSTART;VALUE=DATE:20140307
DTEND;VALUE=DATE:20140308
UID:277282-20140307@calenda.revues.org
SUMMARY:Actors and objects of the religious heritage in Mediterranean
URL:https://calenda-formation.labocleo.org/277282
DESCRIPTION:Le projet MERAP-Med\, regroupant anthropologues\, historiens\, géographes et historiens de l’art\, est né de la volonté de proposer une réflexion comparative sur les manières de construire et représenter les identités religieuses dans le contexte multico… @plus_info https://calenda-formation.labocleo.org/277282
LOCATION:Madrid
END:VEVENT
END:VCALENDAR
