BEGIN:VCALENDAR
VERSION:2.0
PRODID:-//https://calenda-formation.labocleo.org
X-WR-CALNAME:Calenda
X-WR-TIMEZONE:Europe/Paris
CALSCALE:GREGORIAN
X-WR-CALDESC:The calendar for arts, humanities and social sciences
METHOD:PUBLISH
BEGIN:VEVENT
DTSTART;VALUE=DATE:20140305
DTEND;VALUE=DATE:20140306
UID:277310-20140305@calenda.revues.org
SUMMARY:Debate about Laurent Frajerman's book\, "Les frères ennemis"
URL:https://calenda-formation.labocleo.org/277310
DESCRIPTION:Ce livre fait le point sur l’histoire du syndicalisme enseignant sous la IVe République. Il donne des clés pour comprendre ce syndicalisme\, d’hier comme d’aujourd’hui\, en abordant les origines de la « FSU » et de l’« UNSA éducation ». Le débat réunir… @plus_info https://calenda-formation.labocleo.org/277310
LOCATION:Paris
END:VEVENT
END:VCALENDAR
