BEGIN:VCALENDAR
VERSION:2.0
PRODID:-//https://calenda-formation.labocleo.org
X-WR-CALNAME:Calenda
X-WR-TIMEZONE:Europe/Paris
CALSCALE:GREGORIAN
X-WR-CALDESC:O calendário de letras e de ciências sociais e humanas
METHOD:PUBLISH
BEGIN:VEVENT
DTSTART;VALUE=DATE:20140418
DTEND;VALUE=DATE:20140419
UID:277433-20140418@calenda.revues.org
SUMMARY:Programme « Immersion en archives » au Musée royal de l'Afrique centrale
URL:https://calenda-formation.labocleo.org/277433
DESCRIPTION:Appel à candidature pour le programme intensif « Immersion en archives » organisé par le Musée royal de l’Afrique centrale à Tervuren (Belgique) à l’intention de jeunes chercheurs en provenance de la RDC\, du Rwanda ou du Burundi\, inscrits en DEA / do… @plus_info https://calenda-formation.labocleo.org/277433
LOCATION:Tervuren
END:VEVENT
END:VCALENDAR
