BEGIN:VCALENDAR
VERSION:2.0
PRODID:-//https://calenda-formation.labocleo.org
X-WR-CALNAME:Calenda
X-WR-TIMEZONE:Europe/Paris
CALSCALE:GREGORIAN
X-WR-CALDESC:The calendar for arts, humanities and social sciences
METHOD:PUBLISH
BEGIN:VEVENT
DTSTART;VALUE=DATE:20140331
DTEND;VALUE=DATE:20140401
UID:277678-20140331@calenda.revues.org
SUMMARY:Information Technologies for Epigraphy and Digital Cultural Heritage in the Ancient World
URL:https://calenda-formation.labocleo.org/277678
DESCRIPTION:We warmly invite you to the EAGLE 2014 International Conference on Information Technologies for Epigraphy and Digital Cultural Heritage in the Ancient World. Hosted by EAGLE Europeana network of Ancient Greek and Latin Epigraphy\, École Normale Supéri… @plus_info https://calenda-formation.labocleo.org/277678
LOCATION:Paris
END:VEVENT
END:VCALENDAR
