BEGIN:VCALENDAR
VERSION:2.0
PRODID:-//https://calenda-formation.labocleo.org
X-WR-CALNAME:Calenda
X-WR-TIMEZONE:Europe/Paris
CALSCALE:GREGORIAN
X-WR-CALDESC:Le calendrier des lettres et sciences humaines et sociales
METHOD:PUBLISH
BEGIN:VEVENT
DTSTART;VALUE=DATE:20140930
DTEND;VALUE=DATE:20141001
UID:278028-20140930@calenda.revues.org
SUMMARY:La sculpture et la guerre (XIXe-XXIe siècle) et Varia
URL:https://calenda-formation.labocleo.org/278028
DESCRIPTION:L’étude de la sculpture à l’époque contemporaine (du XIXe siècle à nos jours) a désormais sa revue scientifique. Portée par les Presses universitaires de Rouen et du Havre (PURH)\, elle est annuelle. Centrée sur l’étude d’une temporalité associée à la… @plus_info https://calenda-formation.labocleo.org/278028
LOCATION:Mont-Saint-Aignan
END:VEVENT
END:VCALENDAR
