BEGIN:VCALENDAR
VERSION:2.0
PRODID:-//https://calenda-formation.labocleo.org
X-WR-CALNAME:Calenda
X-WR-TIMEZONE:Europe/Paris
CALSCALE:GREGORIAN
X-WR-CALDESC:The calendar for arts, humanities and social sciences
METHOD:PUBLISH
BEGIN:VEVENT
DTSTART;VALUE=DATE:20140327
DTEND;VALUE=DATE:20140328
UID:278157-20140327@calenda.revues.org
SUMMARY:Are social classes soluble in generations?
URL:https://calenda-formation.labocleo.org/278157
DESCRIPTION:Dans les années 1990\, de nombreux travaux soulignent l’ampleur des inégalités entre générations. Sociologues et économistes mettent en évidence le désavantage des générations nées au début des années 1960 comparées aux cohortes des premiers-nés du ba… @plus_info https://calenda-formation.labocleo.org/278157
LOCATION:Paris
END:VEVENT
END:VCALENDAR
