BEGIN:VCALENDAR
VERSION:2.0
PRODID:-//https://calenda-formation.labocleo.org
X-WR-CALNAME:Calenda
X-WR-TIMEZONE:Europe/Paris
CALSCALE:GREGORIAN
X-WR-CALDESC:Le calendrier des lettres et sciences humaines et sociales
METHOD:PUBLISH
BEGIN:VEVENT
DTSTART;VALUE=DATE:20140226
DTEND;VALUE=DATE:20140227
UID:278352-20140226@calenda.revues.org
SUMMARY:IV Congreso Internacional "Deporte\, Dopaje y Sociedad"
URL:https://calenda-formation.labocleo.org/278352
DESCRIPTION:El IV Congreso Internacional Deporte\, Dopaje y Sociedad está organizado conjuntamente por la Universidad Politécnica de Madrid y la Agencia Española de Protección de la Salud en el Deporte. Bajo el lema “Mirando hacia el futuro”\, pretendemos la puest… Más informaciones https://calenda-formation.labocleo.org/278352
LOCATION:Madrid
END:VEVENT
BEGIN:VEVENT
DTSTART;VALUE=DATE:20140227
DTEND;VALUE=DATE:20140228
UID:278352-20140227@calenda.revues.org
SUMMARY:IV Congreso Internacional "Deporte\, Dopaje y Sociedad"
URL:https://calenda-formation.labocleo.org/278352
DESCRIPTION:El IV Congreso Internacional Deporte\, Dopaje y Sociedad está organizado conjuntamente por la Universidad Politécnica de Madrid y la Agencia Española de Protección de la Salud en el Deporte. Bajo el lema “Mirando hacia el futuro”\, pretendemos la puest… Más informaciones https://calenda-formation.labocleo.org/278352
LOCATION:Madrid
END:VEVENT
BEGIN:VEVENT
DTSTART;VALUE=DATE:20140228
DTEND;VALUE=DATE:20140301
UID:278352-20140228@calenda.revues.org
SUMMARY:IV Congreso Internacional "Deporte\, Dopaje y Sociedad"
URL:https://calenda-formation.labocleo.org/278352
DESCRIPTION:El IV Congreso Internacional Deporte\, Dopaje y Sociedad está organizado conjuntamente por la Universidad Politécnica de Madrid y la Agencia Española de Protección de la Salud en el Deporte. Bajo el lema “Mirando hacia el futuro”\, pretendemos la puest… Más informaciones https://calenda-formation.labocleo.org/278352
LOCATION:Madrid
END:VEVENT
BEGIN:VEVENT
DTSTART;VALUE=DATE:20140301
DTEND;VALUE=DATE:20140302
UID:278352-20140301@calenda.revues.org
SUMMARY:IV Congreso Internacional "Deporte\, Dopaje y Sociedad"
URL:https://calenda-formation.labocleo.org/278352
DESCRIPTION:El IV Congreso Internacional Deporte\, Dopaje y Sociedad está organizado conjuntamente por la Universidad Politécnica de Madrid y la Agencia Española de Protección de la Salud en el Deporte. Bajo el lema “Mirando hacia el futuro”\, pretendemos la puest… Más informaciones https://calenda-formation.labocleo.org/278352
LOCATION:Madrid
END:VEVENT
END:VCALENDAR
