BEGIN:VCALENDAR
VERSION:2.0
PRODID:-//https://calenda-formation.labocleo.org
X-WR-CALNAME:Calenda
X-WR-TIMEZONE:Europe/Paris
CALSCALE:GREGORIAN
X-WR-CALDESC:Le calendrier des lettres et sciences humaines et sociales
METHOD:PUBLISH
BEGIN:VEVENT
DTSTART;VALUE=DATE:20140325
DTEND;VALUE=DATE:20140326
UID:278441-20140325@calenda.revues.org
SUMMARY:Interpréter l'ornement\, restaurer l'édifice
URL:https://calenda-formation.labocleo.org/278441
DESCRIPTION:L’ornement a été au cœur des débats sur la restauration des monuments dès le début du XIXe siècle. Aujourd’hui\, la polychromie\, la sculpture\, les ornements de toiture\, les grands décors… sont reconnus comme faisant intégralement partie de l’architect… Weitere Informationen https://calenda-formation.labocleo.org/278441
LOCATION:Paris
END:VEVENT
BEGIN:VEVENT
DTSTART;VALUE=DATE:20140326
DTEND;VALUE=DATE:20140327
UID:278441-20140326@calenda.revues.org
SUMMARY:Interpréter l'ornement\, restaurer l'édifice
URL:https://calenda-formation.labocleo.org/278441
DESCRIPTION:L’ornement a été au cœur des débats sur la restauration des monuments dès le début du XIXe siècle. Aujourd’hui\, la polychromie\, la sculpture\, les ornements de toiture\, les grands décors… sont reconnus comme faisant intégralement partie de l’architect… Weitere Informationen https://calenda-formation.labocleo.org/278441
LOCATION:Paris
END:VEVENT
END:VCALENDAR
