BEGIN:VCALENDAR
VERSION:2.0
PRODID:-//https://calenda-formation.labocleo.org
X-WR-CALNAME:Calenda
X-WR-TIMEZONE:Europe/Paris
CALSCALE:GREGORIAN
X-WR-CALDESC:Le calendrier des lettres et sciences humaines et sociales
METHOD:PUBLISH
BEGIN:VEVENT
DTSTART;VALUE=DATE:20140415
DTEND;VALUE=DATE:20140416
UID:278642-20140415@calenda.revues.org
SUMMARY:Highways of the South: Latin American Art Networks
URL:https://calenda-formation.labocleo.org/278642
DESCRIPTION:This Special Issue of Artlas Bulletin focuses on artistic circulation\, exchange and networks in Latin American art history. We welcome papers on any phase of Latin American independence through the contemporary moment on art\, architectural or design … Más informaciones https://calenda-formation.labocleo.org/278642
LOCATION:
END:VEVENT
END:VCALENDAR
