BEGIN:VCALENDAR
VERSION:2.0
PRODID:-//https://calenda-formation.labocleo.org
X-WR-CALNAME:Calenda
X-WR-TIMEZONE:Europe/Paris
CALSCALE:GREGORIAN
X-WR-CALDESC:O calendário de letras e de ciências sociais e humanas
METHOD:PUBLISH
BEGIN:VEVENT
DTSTART;VALUE=DATE:20140403
DTEND;VALUE=DATE:20140404
UID:278738-20140403@calenda.revues.org
SUMMARY:Forum fribourgeois d'histoire contemporaine
URL:https://calenda-formation.labocleo.org/278738
DESCRIPTION:Le « Forum fribourgeois » est un lieu d'échange et de rencontre pour les chercheuses et chercheurs francophones et germanophones de l'université de Fribourg (Suisse) en histoire contemporaine\, qui travaillent sur les XIXe et XXe siècles. Le programme… @plus_info https://calenda-formation.labocleo.org/278738
LOCATION:Friburgo
END:VEVENT
BEGIN:VEVENT
DTSTART;VALUE=DATE:20140417
DTEND;VALUE=DATE:20140418
UID:278738-20140417@calenda.revues.org
SUMMARY:Forum fribourgeois d'histoire contemporaine
URL:https://calenda-formation.labocleo.org/278738
DESCRIPTION:Le « Forum fribourgeois » est un lieu d'échange et de rencontre pour les chercheuses et chercheurs francophones et germanophones de l'université de Fribourg (Suisse) en histoire contemporaine\, qui travaillent sur les XIXe et XXe siècles. Le programme… @plus_info https://calenda-formation.labocleo.org/278738
LOCATION:Friburgo
END:VEVENT
BEGIN:VEVENT
DTSTART;VALUE=DATE:20140508
DTEND;VALUE=DATE:20140509
UID:278738-20140508@calenda.revues.org
SUMMARY:Forum fribourgeois d'histoire contemporaine
URL:https://calenda-formation.labocleo.org/278738
DESCRIPTION:Le « Forum fribourgeois » est un lieu d'échange et de rencontre pour les chercheuses et chercheurs francophones et germanophones de l'université de Fribourg (Suisse) en histoire contemporaine\, qui travaillent sur les XIXe et XXe siècles. Le programme… @plus_info https://calenda-formation.labocleo.org/278738
LOCATION:Friburgo
END:VEVENT
BEGIN:VEVENT
DTSTART;VALUE=DATE:20140603
DTEND;VALUE=DATE:20140604
UID:278738-20140603@calenda.revues.org
SUMMARY:Forum fribourgeois d'histoire contemporaine
URL:https://calenda-formation.labocleo.org/278738
DESCRIPTION:Le « Forum fribourgeois » est un lieu d'échange et de rencontre pour les chercheuses et chercheurs francophones et germanophones de l'université de Fribourg (Suisse) en histoire contemporaine\, qui travaillent sur les XIXe et XXe siècles. Le programme… @plus_info https://calenda-formation.labocleo.org/278738
LOCATION:Friburgo
END:VEVENT
END:VCALENDAR
