BEGIN:VCALENDAR
VERSION:2.0
PRODID:-//https://calenda-formation.labocleo.org
X-WR-CALNAME:Calenda
X-WR-TIMEZONE:Europe/Paris
CALSCALE:GREGORIAN
X-WR-CALDESC:The calendar for arts, humanities and social sciences
METHOD:PUBLISH
BEGIN:VEVENT
DTSTART;VALUE=DATE:20140615
DTEND;VALUE=DATE:20140616
UID:278760-20140615@calenda.revues.org
SUMMARY:The innovations of ICT technologies and their integration into the current teaching methods used in education
URL:https://calenda-formation.labocleo.org/278760
DESCRIPTION:Ce colloque scientifique\, d’envergure internationale pour cette première édition de l’innovation pédagogique\, ambitionne de réunir des chercheurs\, des didacticiens et des spécialistes éminents dans le domaine des TICEs pour débattre des dernières ava… @plus_info https://calenda-formation.labocleo.org/278760
LOCATION:Ouarzazate
END:VEVENT
END:VCALENDAR
