BEGIN:VCALENDAR
VERSION:2.0
PRODID:-//https://calenda-formation.labocleo.org
X-WR-CALNAME:Calenda
X-WR-TIMEZONE:Europe/Paris
CALSCALE:GREGORIAN
X-WR-CALDESC:The calendar for arts, humanities and social sciences
METHOD:PUBLISH
BEGIN:VEVENT
DTSTART;VALUE=DATE:20140331
DTEND;VALUE=DATE:20140401
UID:278862-20140331@calenda.revues.org
SUMMARY:Initiations? The Experience of Modern War (1853-2013)
URL:https://calenda-formation.labocleo.org/278862
DESCRIPTION:From June 30 to July 5\, 2014\, the Historial de la Grande Guerre will host both an international conference and a Summer Institute for young researchers at the masters and doctoral levels. The conference\, “Initiations? First Moments in the First World… @plus_info https://calenda-formation.labocleo.org/278862
LOCATION:Péronne
END:VEVENT
END:VCALENDAR
