BEGIN:VCALENDAR
VERSION:2.0
PRODID:-//https://calenda-formation.labocleo.org
X-WR-CALNAME:Calenda
X-WR-TIMEZONE:Europe/Paris
CALSCALE:GREGORIAN
X-WR-CALDESC:The calendar for arts, humanities and social sciences
METHOD:PUBLISH
BEGIN:VEVENT
DTSTART;VALUE=DATE:20140501
DTEND;VALUE=DATE:20140502
UID:279178-20140501@calenda.revues.org
SUMMARY:What documentary policies in a hybrid environment?
URL:https://calenda-formation.labocleo.org/279178
DESCRIPTION:Une perplexité aujourd’hui récurrente dans la définition d’une politique documentaire est l’articulation possible des différents types de ressources\, imprimées et numériques notamment\, dans un contexte de moyens financiers et humains limités. Le conc… @plus_info https://calenda-formation.labocleo.org/279178
LOCATION:Villeurbanne
END:VEVENT
END:VCALENDAR
