BEGIN:VCALENDAR
VERSION:2.0
PRODID:-//https://calenda-formation.labocleo.org
X-WR-CALNAME:Calenda
X-WR-TIMEZONE:Europe/Paris
CALSCALE:GREGORIAN
X-WR-CALDESC:Le calendrier des lettres et sciences humaines et sociales
METHOD:PUBLISH
BEGIN:VEVENT
DTSTART;VALUE=DATE:20140630
DTEND;VALUE=DATE:20140701
UID:279379-20140630@calenda.revues.org
SUMMARY:Une guerre fratricide ? Juifs français et allemands dans la Grande Guerre
URL:https://calenda-formation.labocleo.org/279379
DESCRIPTION:À l’occasion du centenaire de la Grande Guerre en 2014\, la journée d’étude qui se déroulera le 14 novembre 2014 à l'université Lille III\, souhaiterait s’inscrire dans un travail de mémoire mené à vaste échelle sur les représentations (croisées) de la… Más informaciones https://calenda-formation.labocleo.org/279379
LOCATION:Lille
END:VEVENT
END:VCALENDAR
