BEGIN:VCALENDAR
VERSION:2.0
PRODID:-//https://calenda-formation.labocleo.org
X-WR-CALNAME:Calenda
X-WR-TIMEZONE:Europe/Paris
CALSCALE:GREGORIAN
X-WR-CALDESC:O calendário de letras e de ciências sociais e humanas
METHOD:PUBLISH
BEGIN:VEVENT
DTSTART;VALUE=DATE:20140430
DTEND;VALUE=DATE:20140501
UID:279995-20140430@calenda.revues.org
SUMMARY:A arte nas trincheiras | Nas trincheiras da arte. Nos 100 anos da 1ª Guerra Mundial
URL:https://calenda-formation.labocleo.org/279995
DESCRIPTION:Com o intuito de assinalar a passagem do centenário do início da Primeira Guerra Mundial\, o Instituto de Literatura Comparada da Faculdade de Letras da Universidade do Porto associa-se às entidades governamentais (Ministério dos Negócios Estrangeiros… @plus_info https://calenda-formation.labocleo.org/279995
LOCATION:Porto
END:VEVENT
END:VCALENDAR
