BEGIN:VCALENDAR
VERSION:2.0
PRODID:-//https://calenda-formation.labocleo.org
X-WR-CALNAME:Calenda
X-WR-TIMEZONE:Europe/Paris
CALSCALE:GREGORIAN
X-WR-CALDESC:O calendário de letras e de ciências sociais e humanas
METHOD:PUBLISH
BEGIN:VEVENT
DTSTART;VALUE=DATE:20140430
DTEND;VALUE=DATE:20140501
UID:280252-20140430@calenda.revues.org
SUMMARY:Prix de thèse 2014 de la Société française d'histoire urbaine 
URL:https://calenda-formation.labocleo.org/280252
DESCRIPTION:La Société française d’histoire urbaine (SFHU) ouvre\, pour sa 4e session\, au titre de l'année 2014\, un concours de thèses qui s'adresse aux jeunes docteurs en histoire urbaine. Par cette initiative\, la SFHU vise à encourager de jeunes chercheurs et à… @plus_info https://calenda-formation.labocleo.org/280252
LOCATION:Paris
END:VEVENT
END:VCALENDAR
