BEGIN:VCALENDAR
VERSION:2.0
PRODID:-//https://calenda-formation.labocleo.org
X-WR-CALNAME:Calenda
X-WR-TIMEZONE:Europe/Paris
CALSCALE:GREGORIAN
X-WR-CALDESC:Le calendrier des lettres et sciences humaines et sociales
METHOD:PUBLISH
BEGIN:VEVENT
DTSTART;VALUE=DATE:20140404
DTEND;VALUE=DATE:20140405
UID:280502-20140404@calenda.revues.org
SUMMARY:Poste en métaphysique et théorie de la connaissance
URL:https://calenda-formation.labocleo.org/280502
DESCRIPTION:Une charge indivisible à temps partiel équivalant à 70 % d'une charge à temps plein rattachée au Département de philosophie\, dans les domaines de la métaphysique et de la théorie de la connaissance\, comprenant des activités d'enseignement\, de recherc… Más informaciones https://calenda-formation.labocleo.org/280502
LOCATION:Lieja
END:VEVENT
END:VCALENDAR
