BEGIN:VCALENDAR
VERSION:2.0
PRODID:-//https://calenda-formation.labocleo.org
X-WR-CALNAME:Calenda
X-WR-TIMEZONE:Europe/Paris
CALSCALE:GREGORIAN
X-WR-CALDESC:Le calendrier des lettres et sciences humaines et sociales
METHOD:PUBLISH
BEGIN:VEVENT
DTSTART;VALUE=DATE:20140425
DTEND;VALUE=DATE:20140426
UID:280564-20140425@calenda.revues.org
SUMMARY:Magistères religieux et modernité
URL:https://calenda-formation.labocleo.org/280564
DESCRIPTION:À l’occasion de son 40ème anniversaire\, l’Association française d’histoire religieuse contemporaine dédouble sa journée d’études annuelle : une journée sera consacrée à des ateliers jeunes chercheurs. Elle portera sur les rapports problématiques unis… @plus_info https://calenda-formation.labocleo.org/280564
LOCATION:Paris
END:VEVENT
END:VCALENDAR
