BEGIN:VCALENDAR
VERSION:2.0
PRODID:-//https://calenda-formation.labocleo.org
X-WR-CALNAME:Calenda
X-WR-TIMEZONE:Europe/Paris
CALSCALE:GREGORIAN
X-WR-CALDESC:Le calendrier des lettres et sciences humaines et sociales
METHOD:PUBLISH
BEGIN:VEVENT
DTSTART;VALUE=DATE:20140610
DTEND;VALUE=DATE:20140611
UID:280614-20140610@calenda.revues.org
SUMMARY:Genre et sciences du langage : enjeux et perspectives
URL:https://calenda-formation.labocleo.org/280614
DESCRIPTION:Les études de genre\, apparues aux États-Unis sous l'appellation « Gender Studies » il y a une quarantaine d'années\, se sont peu à peu imposées comme domaine de recherche à part entière susceptible de traverser l'ensemble composite des sciences humain… Weitere Informationen https://calenda-formation.labocleo.org/280614
LOCATION:Montpellier
END:VEVENT
END:VCALENDAR
