BEGIN:VCALENDAR
VERSION:2.0
PRODID:-//https://calenda-formation.labocleo.org
X-WR-CALNAME:Calenda
X-WR-TIMEZONE:Europe/Paris
CALSCALE:GREGORIAN
X-WR-CALDESC:The calendar for arts, humanities and social sciences
METHOD:PUBLISH
BEGIN:VEVENT
DTSTART;VALUE=DATE:20140409
DTEND;VALUE=DATE:20140410
UID:280793-20140409@calenda.revues.org
SUMMARY:Future of higher education
URL:https://calenda-formation.labocleo.org/280793
DESCRIPTION:Some of the world's top thinkers including a Nobel laureate\, policymakers and university leaders will gather in Paris on April 9-11 to discuss the future of higher education at the second annual Princeton-Fung Global Forum. The forum\, which comes as … @plus_info https://calenda-formation.labocleo.org/280793
LOCATION:Paris
END:VEVENT
BEGIN:VEVENT
DTSTART;VALUE=DATE:20140410
DTEND;VALUE=DATE:20140411
UID:280793-20140410@calenda.revues.org
SUMMARY:Future of higher education
URL:https://calenda-formation.labocleo.org/280793
DESCRIPTION:Some of the world's top thinkers including a Nobel laureate\, policymakers and university leaders will gather in Paris on April 9-11 to discuss the future of higher education at the second annual Princeton-Fung Global Forum. The forum\, which comes as … @plus_info https://calenda-formation.labocleo.org/280793
LOCATION:Paris
END:VEVENT
BEGIN:VEVENT
DTSTART;VALUE=DATE:20140411
DTEND;VALUE=DATE:20140412
UID:280793-20140411@calenda.revues.org
SUMMARY:Future of higher education
URL:https://calenda-formation.labocleo.org/280793
DESCRIPTION:Some of the world's top thinkers including a Nobel laureate\, policymakers and university leaders will gather in Paris on April 9-11 to discuss the future of higher education at the second annual Princeton-Fung Global Forum. The forum\, which comes as … @plus_info https://calenda-formation.labocleo.org/280793
LOCATION:Paris
END:VEVENT
END:VCALENDAR
