BEGIN:VCALENDAR
VERSION:2.0
PRODID:-//https://calenda-formation.labocleo.org
X-WR-CALNAME:Calenda
X-WR-TIMEZONE:Europe/Paris
CALSCALE:GREGORIAN
X-WR-CALDESC:Le calendrier des lettres et sciences humaines et sociales
METHOD:PUBLISH
BEGIN:VEVENT
DTSTART;VALUE=DATE:20140515
DTEND;VALUE=DATE:20140516
UID:281401-20140515@calenda.revues.org
SUMMARY:Groupe de travail sur le Serious Gaming 
URL:https://calenda-formation.labocleo.org/281401
DESCRIPTION:Session de travail sur le Serious gaming autour de deux axes principaux : jeux commercieux utilisés à des fins de serious gaming ; expériences de level design à des fins de serious gaming. … Weitere Informationen https://calenda-formation.labocleo.org/281401
LOCATION:Oxford
END:VEVENT
END:VCALENDAR
