BEGIN:VCALENDAR
VERSION:2.0
PRODID:-//https://calenda-formation.labocleo.org
X-WR-CALNAME:Calenda
X-WR-TIMEZONE:Europe/Paris
CALSCALE:GREGORIAN
X-WR-CALDESC:Le calendrier des lettres et sciences humaines et sociales
METHOD:PUBLISH
BEGIN:VEVENT
DTSTART;VALUE=DATE:20140320
DTEND;VALUE=DATE:20140321
UID:281851-20140320@calenda.revues.org
SUMMARY:Le Brésil en toutes lettres
URL:https://calenda-formation.labocleo.org/281851
DESCRIPTION:Intitulée « Le Brésil en toutes lettres »\, la prochaine journée d'étude de l'Association pour la recherche sur le Brésil est organisée en partenariat avec l'Ambassade du Brésil en France. … Más informaciones https://calenda-formation.labocleo.org/281851
LOCATION:París
END:VEVENT
END:VCALENDAR
