BEGIN:VCALENDAR
VERSION:2.0
PRODID:-//https://calenda-formation.labocleo.org
X-WR-CALNAME:Calenda
X-WR-TIMEZONE:Europe/Paris
CALSCALE:GREGORIAN
X-WR-CALDESC:The calendar for arts, humanities and social sciences
METHOD:PUBLISH
BEGIN:VEVENT
DTSTART;VALUE=DATE:20140404
DTEND;VALUE=DATE:20140405
UID:282226-20140404@calenda.revues.org
SUMMARY:Christian Lacroix and the performance arts
URL:https://calenda-formation.labocleo.org/282226
DESCRIPTION:L’exposition s’inscrit dans le cadre du programme « Histoire de la mode et du vêtement » de l’INHA. L’inventaire et la numérisation de près de 2000 esquisses ont permis de rendre visible le fonds Lacroix conservé à Moulins sur la base de données AGOR… @plus_info https://calenda-formation.labocleo.org/282226
LOCATION:Paris
END:VEVENT
END:VCALENDAR
