BEGIN:VCALENDAR
VERSION:2.0
PRODID:-//https://calenda-formation.labocleo.org
X-WR-CALNAME:Calenda
X-WR-TIMEZONE:Europe/Paris
CALSCALE:GREGORIAN
X-WR-CALDESC:The calendar for arts, humanities and social sciences
METHOD:PUBLISH
BEGIN:VEVENT
DTSTART;VALUE=DATE:20140401
DTEND;VALUE=DATE:20140402
UID:282364-20140401@calenda.revues.org
SUMMARY:University lecturer position in political sociology and development sociology
URL:https://calenda-formation.labocleo.org/282364
DESCRIPTION:L’Institut d’étude du développement économique et social (IEDES) est un institut de formation et de recherche spécialisé sur les questions économiques et sociales liées au développement\, sur les dynamiques des pays du Sud et sur la sociologie et l’éc… @plus_info https://calenda-formation.labocleo.org/282364
LOCATION:Nogent-sur-Marne
END:VEVENT
END:VCALENDAR
