BEGIN:VCALENDAR
VERSION:2.0
PRODID:-//https://calenda-formation.labocleo.org
X-WR-CALNAME:Calenda
X-WR-TIMEZONE:Europe/Paris
CALSCALE:GREGORIAN
X-WR-CALDESC:Le calendrier des lettres et sciences humaines et sociales
METHOD:PUBLISH
BEGIN:VEVENT
DTSTART;VALUE=DATE:20140430
DTEND;VALUE=DATE:20140501
UID:282436-20140430@calenda.revues.org
SUMMARY:Ethnies\, nations\, développement en Afrique
URL:https://calenda-formation.labocleo.org/282436
DESCRIPTION:Ce colloque est prévu pour offrir aux scientifiques\, l’occasion de repenser l’État africain pour dépasser sa situation de crise et produire le développement qui prenne en compte les entités autonomes régionales\, locales ou ethniques dans les domaines… @plus_info https://calenda-formation.labocleo.org/282436
LOCATION:Brazzaville
END:VEVENT
END:VCALENDAR
